BEGIN:VCALENDAR
VERSION:2.0
PRODID:-//Smith&#039;s Castle - ECPv6.15.20//NONSGML v1.0//EN
CALSCALE:GREGORIAN
METHOD:PUBLISH
X-WR-CALNAME:Smith&#039;s Castle
X-ORIGINAL-URL:https://smiths.focusweb.dev
X-WR-CALDESC:Events for Smith&#039;s Castle
REFRESH-INTERVAL;VALUE=DURATION:PT1H
X-Robots-Tag:noindex
X-PUBLISHED-TTL:PT1H
BEGIN:VTIMEZONE
TZID:America/Chicago
BEGIN:DAYLIGHT
TZOFFSETFROM:-0600
TZOFFSETTO:-0500
TZNAME:CDT
DTSTART:20250309T080000
END:DAYLIGHT
BEGIN:STANDARD
TZOFFSETFROM:-0500
TZOFFSETTO:-0600
TZNAME:CST
DTSTART:20251102T070000
END:STANDARD
BEGIN:DAYLIGHT
TZOFFSETFROM:-0600
TZOFFSETTO:-0500
TZNAME:CDT
DTSTART:20260308T080000
END:DAYLIGHT
BEGIN:STANDARD
TZOFFSETFROM:-0500
TZOFFSETTO:-0600
TZNAME:CST
DTSTART:20261101T070000
END:STANDARD
BEGIN:DAYLIGHT
TZOFFSETFROM:-0600
TZOFFSETTO:-0500
TZNAME:CDT
DTSTART:20270314T080000
END:DAYLIGHT
BEGIN:STANDARD
TZOFFSETFROM:-0500
TZOFFSETTO:-0600
TZNAME:CST
DTSTART:20271107T070000
END:STANDARD
END:VTIMEZONE
BEGIN:VEVENT
DTSTART;TZID=America/Chicago:20260708T180000
DTEND;TZID=America/Chicago:20260708T200000
DTSTAMP:20260425T070459
CREATED:20260220T214313Z
LAST-MODIFIED:20260221T004130Z
UID:255-1783533600-1783540800@smiths.focusweb.dev
SUMMARY:Lecture: The Narragansett Lands
DESCRIPTION:
URL:https://smiths.focusweb.dev/event/lecture-the-narragansett-lands/
ATTACH;FMTTYPE=image/jpeg:https://smiths.focusweb.dev/wp-content/uploads/2026/02/Smiths-castle-2025-opening-day.jpg
END:VEVENT
BEGIN:VEVENT
DTSTART;TZID=America/Chicago:20260924T110000
DTEND;TZID=America/Chicago:20260924T170000
DTSTAMP:20260425T070459
CREATED:20260220T214341Z
LAST-MODIFIED:20260221T003848Z
UID:257-1790247600-1790269200@smiths.focusweb.dev
SUMMARY:Annual Harvest Festival
DESCRIPTION:
URL:https://smiths.focusweb.dev/event/annual-harvest-festival/
ATTACH;FMTTYPE=image/jpeg:https://smiths.focusweb.dev/wp-content/uploads/2026/02/Smiths-Castle-3-sisters-scaled.jpeg
END:VEVENT
END:VCALENDAR